BEGIN:VCALENDAR
VERSION:2.0
PRODID:-//hacksw/handcal//NONSGML v1.0//EN
BEGIN:VEVENT
UID:d9fa0a5ce604848e93f43204b6d39721
DTSTAMP:20260420T081143Z

DTSTART:20241212T073000
DTEND:20241212T210000
SUMMARY:Trà đàm và nội hàm văn hoá trong tiếng Trung
DESCRIPTION:Nội hàm văn hoá trong tiếng Trung là bác đại tinh thâm, đặc biệt tiếng trung phồn thể, chứa đựng những giá trị sâu sắc về đạo đức, mối quan hệ giữa con người, thậm chí là thiên cơ ẩn tàng!\nNhững buổi giao lưu này mong muốn giúp mọi người yêu thích, và học tập hiệu quả hơn, nhớ tiếng Trung lâu hơn.

X-ALT-DESC;FMTTYPE=text/html:<!DOCTYPE HTML PUBLIC "-//W3C//DTD HTML 3.2//EN">\n<HTML>\n<HEAD>\n<META NAME="Generator" CONTENT="MS Exchange Server version 08.00.0681.000">\n<TITLE></TITLE>\n</HEAD>\n<BODY>\n<!-- Converted from text/rtf format -->\n\nNội hàm văn hoá trong tiếng Trung là bác đại tinh thâm, đặc biệt tiếng trung phồn thể, chứa đựng những giá trị sâu sắc về đạo đức, mối quan hệ giữa con người, thậm chí là thiên cơ ẩn tàng!<br />Những buổi giao lưu này mong muốn giúp mọi người yêu thích, và học tập hiệu quả hơn, nhớ tiếng Trung lâu hơn.\n\n</BODY>\n</HTML>

LOCATION:Ngõ 166 Kim Mã, Phường Kim Mã, Quận Ba Đình, Thành phố Hà Nội, 10060, Việt Nam
END:VEVENT

END:VCALENDAR
