BEGIN:VCALENDAR
VERSION:2.0
PRODID:-//hacksw/handcal//NONSGML v1.0//EN
BEGIN:VEVENT
UID:80eb8a4f34aa2300c8b455ad996e7852
DTSTAMP:20260420T010959Z

DTSTART:20241112T090000
DTEND:20241112T120000
SUMMARY:Thực hành nấu ăn và tìm hiểu văn hoá ẩm thực luyện tiếng Trung (Hải Yến Host)
DESCRIPTION:Thông qua hoạt động thực hành nấu ăn và tìm hiểu văn hoá ẩm thực, Hải Yến sẽ giúp các bạn thực hành rất nhiều kỹ năng và gặt hái được rất nhiều giá trị như:\n1. Hiểu về các bước nấu một số món ăn văn hoá truyền thống Việt Nam\n2. Có cơ hội giới thiệu và quảng bá văn hoá, ẩm thực Việt Nam tới người Trung Quốc\n3. Thực hành luyện nói, nghe và giao tiếp với người Trung Quốc trong toàn bộ quá trình\n4. Chúng ta cùng gắn kết và kiên trì trên con đường tìm hiểu ngôn ngữ và văn hoá Trung Hoa\nBiết một ngôn ngữ mới là biết một nền văn hoá mới và chúng ta có thể chọn lọc những điều tốt đẹp để học!\nSự kiện chỉ nhận tối đa 8 người tham gia!

X-ALT-DESC;FMTTYPE=text/html:<!DOCTYPE HTML PUBLIC "-//W3C//DTD HTML 3.2//EN">\n<HTML>\n<HEAD>\n<META NAME="Generator" CONTENT="MS Exchange Server version 08.00.0681.000">\n<TITLE></TITLE>\n</HEAD>\n<BODY>\n<!-- Converted from text/rtf format -->\n\nThông qua hoạt động thực hành nấu ăn và tìm hiểu văn hoá ẩm thực, Hải Yến sẽ giúp các bạn thực hành rất nhiều kỹ năng và gặt hái được rất nhiều giá trị như:<br />1. Hiểu về các bước nấu một số món ăn văn hoá truyền thống Việt Nam<br />2. Có cơ hội giới thiệu và quảng bá văn hoá, ẩm thực Việt Nam tới người Trung Quốc<br />3. Thực hành luyện nói, nghe và giao tiếp với người Trung Quốc trong toàn bộ quá trình<br />4. Chúng ta cùng gắn kết và kiên trì trên con đường tìm hiểu ngôn ngữ và văn hoá Trung Hoa<br />Biết một ngôn ngữ mới là biết một nền văn hoá mới và chúng ta có thể chọn lọc những điều tốt đẹp để học!<br />Sự kiện chỉ nhận tối đa 8 người tham gia!\n\n</BODY>\n</HTML>

LOCATION:Ngõ 166 Kim Mã, Phường Kim Mã, Quận Ba Đình, Thành phố Hà Nội, 10060, Việt Nam
END:VEVENT

END:VCALENDAR
