BEGIN:VCALENDAR
VERSION:2.0
PRODID:-//hacksw/handcal//NONSGML v1.0//EN
BEGIN:VEVENT
UID:3260862b3711f3c7f983888e498351df
DTSTAMP:20260420T043508Z

DTSTART:20250721T193000
DTEND:20250721T203000
SUMMARY:CÓ LỚP ÔN TẬP BÀI 1 ĐẾN BÀI 5
DESCRIPTION:Giáo viên: Cô Hải Yến\nGiờ ôn tập: 7h30 tối đến 8h30 tối\nCùng thời điểm có 3 phòng, các bạn vào bài học và chọn vào nút Phòng học 3D ở bài tương ứng\nCác bạn chú ý, đến giờ học chúng ta mới vào lớp, lúc đó sẽ có sách vở, học liệu và tài liệu hiện lên ở trong phòng học 3D.\nNgoài giờ có thể có các lớp khác tham gia học nên chúng ta không vào lớp ảnh hưởng tới các bạn khác học nhé!\nLớp học hạn chế 45 bạn một lúc, vậy nên các bạn vào sau sẽ chọn lịch của cô giáo khác nhé\nĐây là hướng dẫn vào phòng học 3D-360 và cách vào cuộc gọi ngay trong phòng, các con có thể nhờ bố mẹ hướng dẫn nếu chưa biết làm!\nhttps://xemthem.link/3d360meet

X-ALT-DESC;FMTTYPE=text/html:<!DOCTYPE HTML PUBLIC "-//W3C//DTD HTML 3.2//EN">\n<HTML>\n<HEAD>\n<META NAME="Generator" CONTENT="MS Exchange Server version 08.00.0681.000">\n<TITLE></TITLE>\n</HEAD>\n<BODY>\n<!-- Converted from text/rtf format -->\n\nGiáo viên: Cô Hải Yến<br />Giờ ôn tập: 7h30 tối đến 8h30 tối<br />Cùng thời điểm có 3 phòng, các bạn vào bài học và chọn vào nút Phòng học 3D ở bài tương ứng<br />Các bạn chú ý, đến giờ học chúng ta mới vào lớp, lúc đó sẽ có sách vở, học liệu và tài liệu hiện lên ở trong phòng học 3D.<br />Ngoài giờ có thể có các lớp khác tham gia học nên chúng ta không vào lớp ảnh hưởng tới các bạn khác học nhé!<br />Lớp học hạn chế 45 bạn một lúc, vậy nên các bạn vào sau sẽ chọn lịch của cô giáo khác nhé<br />Đây là hướng dẫn vào phòng học 3D-360 và cách vào cuộc gọi ngay trong phòng, các con có thể nhờ bố mẹ hướng dẫn nếu chưa biết làm!<br />https://xemthem.link/3d360meet\n\n</BODY>\n</HTML>

LOCATION:
END:VEVENT

END:VCALENDAR
