BEGIN:VCALENDAR
VERSION:2.0
PRODID:-//hacksw/handcal//NONSGML v1.0//EN
BEGIN:VEVENT
UID:4002a0ef456eb9beb43886b77c195efe
DTSTAMP:20260420T011113Z

DTSTART:20241212T090000
DTEND:20241212T163000
SUMMARY:Dẫn tour du lịch free học tiếng Trung qua thực tế với người bản địa
DESCRIPTION:Dẫn tour du lịch cho người Trung Quốc để thực hành luyện kỹ năng nghe và nói, nếu bạn chưa tự tin, bạn có thể đăng ký đi cùng với những học viên thành thục khác nhé!

X-ALT-DESC;FMTTYPE=text/html:<!DOCTYPE HTML PUBLIC "-//W3C//DTD HTML 3.2//EN">\n<HTML>\n<HEAD>\n<META NAME="Generator" CONTENT="MS Exchange Server version 08.00.0681.000">\n<TITLE></TITLE>\n</HEAD>\n<BODY>\n<!-- Converted from text/rtf format -->\n\nDẫn tour du lịch cho người Trung Quốc để thực hành luyện kỹ năng nghe và nói, nếu bạn chưa tự tin, bạn có thể đăng ký đi cùng với những học viên thành thục khác nhé!\n\n</BODY>\n</HTML>

LOCATION:Hồ Hoàn Kiếm, Quận Hoàn Kiếm, Thành phố Hà Nội, Việt Nam
END:VEVENT

END:VCALENDAR
